BEGIN:VCALENDAR
VERSION:2.0
PRODID:-//Martin Luther College - ECPv5.1.1//NONSGML v1.0//EN
CALSCALE:GREGORIAN
METHOD:PUBLISH
X-WR-CALNAME:Martin Luther College
X-ORIGINAL-URL:https://mlc-wels.edu
X-WR-CALDESC:Events for Martin Luther College
BEGIN:VTIMEZONE
TZID:America/Chicago
BEGIN:DAYLIGHT
TZOFFSETFROM:-0600
TZOFFSETTO:-0500
TZNAME:CDT
DTSTART:20180311T080000
END:DAYLIGHT
BEGIN:STANDARD
TZOFFSETFROM:-0500
TZOFFSETTO:-0600
TZNAME:CST
DTSTART:20181104T070000
END:STANDARD
END:VTIMEZONE
BEGIN:VEVENT
DTSTART;TZID=America/Chicago:20180502T160000
DTEND;TZID=America/Chicago:20180502T160000
DTSTAMP:20260423T045548
CREATED:20180430T142311Z
LAST-MODIFIED:20180430T142311Z
UID:7127-1525276800-1525276800@mlc-wels.edu
SUMMARY:Women's Track at St. Thomas
DESCRIPTION:
URL:https://mlc-wels.edu/event/womens-track-at-st-thomas-2/
LOCATION:University of St. Thomas\, 2115 Summit Ave\, St Paul\, MN 55105\, USA\, 621 Summit Ave\, United States
END:VEVENT
END:VCALENDAR