BEGIN:VCALENDAR
VERSION:2.0
PRODID:-//Martin Luther College - ECPv5.1.1//NONSGML v1.0//EN
CALSCALE:GREGORIAN
METHOD:PUBLISH
X-WR-CALNAME:Martin Luther College
X-ORIGINAL-URL:https://mlc-wels.edu
X-WR-CALDESC:Events for Martin Luther College
BEGIN:VTIMEZONE
TZID:America/Chicago
BEGIN:DAYLIGHT
TZOFFSETFROM:-0600
TZOFFSETTO:-0500
TZNAME:CDT
DTSTART:20200308T080000
END:DAYLIGHT
BEGIN:STANDARD
TZOFFSETFROM:-0500
TZOFFSETTO:-0600
TZNAME:CST
DTSTART:20201101T070000
END:STANDARD
END:VTIMEZONE
BEGIN:VEVENT
DTSTART;TZID=America/Chicago:20200215T164500
DTEND;TZID=America/Chicago:20200215T164500
DTSTAMP:20260422T063049
CREATED:20190529T213253Z
LAST-MODIFIED:20200215T163410Z
UID:10683-1581785100-1581785100@mlc-wels.edu
SUMMARY:Women's Basketball at UW-Superior
DESCRIPTION:changed form a home game \n
URL:https://mlc-wels.edu/event/womens-basketball-home-vs-uw-superior-3/
LOCATION:1995 Luther Ct\, New Ulm\, MN 56073\, USA\, 1995 Luther Ct\, United States
END:VEVENT
END:VCALENDAR