BEGIN:VCALENDAR
VERSION:2.0
PRODID:-//Martin Luther College - ECPv5.1.1//NONSGML v1.0//EN
CALSCALE:GREGORIAN
METHOD:PUBLISH
X-WR-CALNAME:Martin Luther College
X-ORIGINAL-URL:https://mlc-wels.edu
X-WR-CALDESC:Events for Martin Luther College
BEGIN:VTIMEZONE
TZID:America/Chicago
BEGIN:DAYLIGHT
TZOFFSETFROM:-0600
TZOFFSETTO:-0500
TZNAME:CDT
DTSTART:20210314T080000
END:DAYLIGHT
BEGIN:STANDARD
TZOFFSETFROM:-0500
TZOFFSETTO:-0600
TZNAME:CST
DTSTART:20211107T070000
END:STANDARD
END:VTIMEZONE
BEGIN:VEVENT
DTSTART;TZID=America/Chicago:20210918T130000
DTEND;TZID=America/Chicago:20210918T130000
DTSTAMP:20260422T083943
CREATED:20210721T152623Z
LAST-MODIFIED:20211026T161912Z
UID:19548-1631970000-1631970000@mlc-wels.edu
SUMMARY:Volleyball at Waldorf
DESCRIPTION:
URL:https://mlc-wels.edu/event/volleyball-at-waldorf-2/
LOCATION:Waldorf University\, 106 S 6th St\, Forest City\, IA 50436\, USA\, 101 S 6th St\, United States
CATEGORIES:Athletics
END:VEVENT
END:VCALENDAR