BEGIN:VCALENDAR
VERSION:2.0
PRODID:-//Martin Luther College - ECPv5.1.1//NONSGML v1.0//EN
CALSCALE:GREGORIAN
METHOD:PUBLISH
X-WR-CALNAME:Martin Luther College
X-ORIGINAL-URL:https://mlc-wels.edu
X-WR-CALDESC:Events for Martin Luther College
BEGIN:VTIMEZONE
TZID:America/Chicago
BEGIN:DAYLIGHT
TZOFFSETFROM:-0600
TZOFFSETTO:-0500
TZNAME:CDT
DTSTART:20260308T080000
END:DAYLIGHT
BEGIN:STANDARD
TZOFFSETFROM:-0500
TZOFFSETTO:-0600
TZNAME:CST
DTSTART:20261101T070000
END:STANDARD
END:VTIMEZONE
BEGIN:VEVENT
DTSTART;TZID=America/Chicago:20260422T140216
DTEND;TZID=America/Chicago:20260422T140216
DTSTAMP:20260422T190216
CREATED:20210919T144951Z
LAST-MODIFIED:20210919T144951Z
UID:22492-1776866536-1776866536@mlc-wels.edu
SUMMARY:Volleyball at UW-Superior
DESCRIPTION:
URL:https://mlc-wels.edu/event/volleyball-at-uw-superior-14/
CATEGORIES:Athletics
END:VEVENT
END:VCALENDAR