BEGIN:VCALENDAR
VERSION:2.0
PRODID:-//Martin Luther College - ECPv5.1.1//NONSGML v1.0//EN
CALSCALE:GREGORIAN
METHOD:PUBLISH
X-WR-CALNAME:Martin Luther College
X-ORIGINAL-URL:https://mlc-wels.edu
X-WR-CALDESC:Events for Martin Luther College
BEGIN:VTIMEZONE
TZID:America/Chicago
BEGIN:DAYLIGHT
TZOFFSETFROM:-0600
TZOFFSETTO:-0500
TZNAME:CDT
DTSTART:20210314T080000
END:DAYLIGHT
BEGIN:STANDARD
TZOFFSETFROM:-0500
TZOFFSETTO:-0600
TZNAME:CST
DTSTART:20211107T070000
END:STANDARD
END:VTIMEZONE
BEGIN:VEVENT
DTSTART;TZID=America/Chicago:20210914T190000
DTEND;TZID=America/Chicago:20210914T190000
DTSTAMP:20260422T042104
CREATED:20210721T152620Z
LAST-MODIFIED:20211026T161911Z
UID:19545-1631646000-1631646000@mlc-wels.edu
SUMMARY:Volleyball at St. Catherine
DESCRIPTION:
URL:https://mlc-wels.edu/event/volleyball-at-st-catherine-4/
LOCATION:St. Catherine University\, 2004 Randolph Ave\, St Paul\, MN 55105\, USA\, 401 Randolph Ave\, United States
CATEGORIES:Athletics
END:VEVENT
END:VCALENDAR