BEGIN:VCALENDAR
VERSION:2.0
PRODID:-//Martin Luther College - ECPv5.1.1//NONSGML v1.0//EN
CALSCALE:GREGORIAN
METHOD:PUBLISH
X-WR-CALNAME:Martin Luther College
X-ORIGINAL-URL:https://mlc-wels.edu
X-WR-CALDESC:Events for Martin Luther College
BEGIN:VTIMEZONE
TZID:America/Chicago
BEGIN:DAYLIGHT
TZOFFSETFROM:-0600
TZOFFSETTO:-0500
TZNAME:CDT
DTSTART:20190310T080000
END:DAYLIGHT
BEGIN:STANDARD
TZOFFSETFROM:-0500
TZOFFSETTO:-0600
TZNAME:CST
DTSTART:20191103T070000
END:STANDARD
END:VTIMEZONE
BEGIN:VEVENT
DTSTART;TZID=America/Chicago:20191018T190000
DTEND;TZID=America/Chicago:20191018T190000
DTSTAMP:20260421T223456
CREATED:20190529T213033Z
LAST-MODIFIED:20191019T081947Z
UID:10593-1571425200-1571425200@mlc-wels.edu
SUMMARY:Volleyball at Coe College
DESCRIPTION:vs. St. Thomas \n
URL:https://mlc-wels.edu/event/volleyball-at-coe-college/
LOCATION:Coe College\, 5008\, 1220 1st Ave NE\, Cedar Rapids\, IA 52402\, USA\, 101 1st Ave NE\, United States
END:VEVENT
END:VCALENDAR