BEGIN:VCALENDAR
VERSION:2.0
PRODID:-//Martin Luther College - ECPv5.1.1//NONSGML v1.0//EN
CALSCALE:GREGORIAN
METHOD:PUBLISH
X-WR-CALNAME:Martin Luther College
X-ORIGINAL-URL:https://mlc-wels.edu
X-WR-CALDESC:Events for Martin Luther College
BEGIN:VTIMEZONE
TZID:America/Chicago
BEGIN:DAYLIGHT
TZOFFSETFROM:-0600
TZOFFSETTO:-0500
TZNAME:CDT
DTSTART:20260308T080000
END:DAYLIGHT
BEGIN:STANDARD
TZOFFSETFROM:-0500
TZOFFSETTO:-0600
TZNAME:CST
DTSTART:20261101T070000
END:STANDARD
END:VTIMEZONE
BEGIN:VEVENT
DTSTART;TZID=America/Chicago:20260113T200000
DTEND;TZID=America/Chicago:20260113T210000
DTSTAMP:20260423T085918
CREATED:20251222T192129Z
LAST-MODIFIED:20251222T192353Z
UID:108975-1768334400-1768338000@mlc-wels.edu
SUMMARY:State of the College Address from Pres. Gurgel to Alumni
DESCRIPTION:Join President Rich Gurgel for Martin Luther College’s State of the College Address\, a virtual update designed specifically for alumni. \nDuring this special event\, you will: \n\nReconnect with Martin Luther College\nHear how God continues to bless our campus\nLearn more about where MLC is headed in the years ahead\n\nPresident Gurgel will share updates on enrollment\, campus life\, and key institutional priorities\, along with a forward-looking vision for how alumni continue to play an essential role in MLC’s mission. \nDate and Time: Tuesday\, January 13\, 2026 at 8 p.m. CST\nLocation: Virtual Event (Zoom) Register here A confirmation email with the Zoom link will be sent upon registration. \nUnable to attend live?\nRegister to receive a link to the event recording after the presentation. \nWe look forward to sharing this moment with you and celebrating what God is doing through Martin Luther College. \n
URL:https://mlc-wels.edu/event/state-of-the-college-address-from-pres-gurgel-to-alumni/
ORGANIZER;CN="Michelle%20Markgraf":MAILTO:markgrml@mlc-wels.edu
END:VEVENT
END:VCALENDAR