BEGIN:VCALENDAR
VERSION:2.0
PRODID:-//Martin Luther College - ECPv5.1.1//NONSGML v1.0//EN
CALSCALE:GREGORIAN
METHOD:PUBLISH
X-WR-CALNAME:Martin Luther College
X-ORIGINAL-URL:https://mlc-wels.edu
X-WR-CALDESC:Events for Martin Luther College
BEGIN:VTIMEZONE
TZID:America/Chicago
BEGIN:DAYLIGHT
TZOFFSETFROM:-0600
TZOFFSETTO:-0500
TZNAME:CDT
DTSTART:20170312T080000
END:DAYLIGHT
BEGIN:STANDARD
TZOFFSETFROM:-0500
TZOFFSETTO:-0600
TZNAME:CST
DTSTART:20171105T070000
END:STANDARD
END:VTIMEZONE
BEGIN:VEVENT
DTSTART;TZID=America/Chicago:20170406T200000
DTEND;TZID=America/Chicago:20170406T213000
DTSTAMP:20260423T121117
CREATED:20170315T163504Z
LAST-MODIFIED:20170816T143400Z
UID:3174-1491508800-1491514200@mlc-wels.edu
SUMMARY:STAGO Student Organ Recital
DESCRIPTION:STAGO Student Organ Recital\nChapel of the Christ \n\nMLC proudly hosts the Sioux Trails chapter of the American Guild of Organists (STAGO) annual student organ recital Thursday\, April 6\, at 8:00 pm in the Chapel of the Christ. \nThe performers are students from Gustavus Adolphus College\, Bethany Lutheran College\, and MLC. \nMLC students participating are Lucas Krogmann\, Lydia Wassermann\, Karissa Nolte\, and Gabe Plocher. \n
URL:https://mlc-wels.edu/event/stago-student-organ-recital/
CATEGORIES:Featured
END:VEVENT
END:VCALENDAR