BEGIN:VCALENDAR
VERSION:2.0
PRODID:-//Martin Luther College - ECPv5.1.1//NONSGML v1.0//EN
CALSCALE:GREGORIAN
METHOD:PUBLISH
X-WR-CALNAME:Martin Luther College
X-ORIGINAL-URL:https://mlc-wels.edu
X-WR-CALDESC:Events for Martin Luther College
BEGIN:VTIMEZONE
TZID:America/Chicago
BEGIN:DAYLIGHT
TZOFFSETFROM:-0600
TZOFFSETTO:-0500
TZNAME:CDT
DTSTART:20200308T080000
END:DAYLIGHT
BEGIN:STANDARD
TZOFFSETFROM:-0500
TZOFFSETTO:-0600
TZNAME:CST
DTSTART:20201101T070000
END:STANDARD
END:VTIMEZONE
BEGIN:VEVENT
DTSTART;TZID=America/Chicago:20201003T090000
DTEND;TZID=America/Chicago:20201003T100000
DTSTAMP:20260423T081416
CREATED:20200124T204742Z
LAST-MODIFIED:20200819T163422Z
UID:14064-1601715600-1601719200@mlc-wels.edu
SUMMARY:Sprinter Fun Run (Worldwide)
DESCRIPTION:WORLDWIDE Sprinter Fun Run. Join Knights across the globe in a school-spirit-filled 1-mile walk or run at the location of your choice. Register now! \n \n
URL:https://mlc-wels.edu/event/sprinter-fun-run/
CATEGORIES:Alumni
END:VEVENT
END:VCALENDAR