BEGIN:VCALENDAR
VERSION:2.0
PRODID:-//Martin Luther College - ECPv5.1.1//NONSGML v1.0//EN
CALSCALE:GREGORIAN
METHOD:PUBLISH
X-WR-CALNAME:Martin Luther College
X-ORIGINAL-URL:https://mlc-wels.edu
X-WR-CALDESC:Events for Martin Luther College
BEGIN:VTIMEZONE
TZID:America/Chicago
BEGIN:DAYLIGHT
TZOFFSETFROM:-0600
TZOFFSETTO:-0500
TZNAME:CDT
DTSTART:20180311T080000
END:DAYLIGHT
BEGIN:STANDARD
TZOFFSETFROM:-0500
TZOFFSETTO:-0600
TZNAME:CST
DTSTART:20181104T070000
END:STANDARD
END:VTIMEZONE
BEGIN:VEVENT
DTSTART;TZID=America/Chicago:20181102T173000
DTEND;TZID=America/Chicago:20181102T173000
DTSTAMP:20260423T025401
CREATED:20180626T205120Z
LAST-MODIFIED:20181107T175517Z
UID:7776-1541179800-1541179800@mlc-wels.edu
SUMMARY:SOLA Dinner & Crazy for You
DESCRIPTION:The MLC Support and Outreach Legacy Association (SOLA) consists of individuals who have invested in preparing and encouraging future pastors\, teachers\, and staff ministers through a deferred gift to Martin Luther College. The SOLA annual appreciation dinner will be Friday\, November 2\, at 5:30 pm in the MLC Chapel Fellowship Room. Event includes a full buffet dinner\, address by Vice President for Mission Advancement Michael Otterstatter\, music by MLC students\, and complimentary tickets to the musical Crazy for You at 7:30. \nIf you have remembered MLC in your estate plans but did not receive an invitation\, contact Rev. Michael Otterstatter\, vice president for mission advancement\, at 507-354-8221 ext 383. \n
URL:https://mlc-wels.edu/event/sola-appreciation-dinner-3/
END:VEVENT
END:VCALENDAR