BEGIN:VCALENDAR
VERSION:2.0
PRODID:-//Martin Luther College - ECPv5.1.1//NONSGML v1.0//EN
CALSCALE:GREGORIAN
METHOD:PUBLISH
X-WR-CALNAME:Martin Luther College
X-ORIGINAL-URL:https://mlc-wels.edu
X-WR-CALDESC:Events for Martin Luther College
BEGIN:VTIMEZONE
TZID:America/Chicago
BEGIN:DAYLIGHT
TZOFFSETFROM:-0600
TZOFFSETTO:-0500
TZNAME:CDT
DTSTART:20190310T080000
END:DAYLIGHT
BEGIN:STANDARD
TZOFFSETFROM:-0500
TZOFFSETTO:-0600
TZNAME:CST
DTSTART:20191103T070000
END:STANDARD
END:VTIMEZONE
BEGIN:VEVENT
DTSTART;TZID=America/Chicago:20190223T190000
DTEND;TZID=America/Chicago:20190223T190000
DTSTAMP:20260422T090615
CREATED:20180710T130835Z
LAST-MODIFIED:20190224T223002Z
UID:7836-1550948400-1550948400@mlc-wels.edu
SUMMARY:Softball Away vs. St. Olaf (DH)
DESCRIPTION:
URL:https://mlc-wels.edu/event/softball-away-tbd-2/
LOCATION:901 Cannon Rd\, Dundas\, MN 55019\, USA\, 99 Cannon St\, United States
END:VEVENT
END:VCALENDAR