BEGIN:VCALENDAR
VERSION:2.0
PRODID:-//Martin Luther College - ECPv5.1.1//NONSGML v1.0//EN
CALSCALE:GREGORIAN
METHOD:PUBLISH
X-WR-CALNAME:Martin Luther College
X-ORIGINAL-URL:https://mlc-wels.edu
X-WR-CALDESC:Events for Martin Luther College
BEGIN:VTIMEZONE
TZID:America/Chicago
BEGIN:DAYLIGHT
TZOFFSETFROM:-0600
TZOFFSETTO:-0500
TZNAME:CDT
DTSTART:20260308T080000
END:DAYLIGHT
BEGIN:STANDARD
TZOFFSETFROM:-0500
TZOFFSETTO:-0600
TZNAME:CST
DTSTART:20261101T070000
END:STANDARD
END:VTIMEZONE
BEGIN:VEVENT
DTSTART;TZID=America/Chicago:20260421T222329
DTEND;TZID=America/Chicago:20260421T222329
DTSTAMP:20260422T032329
CREATED:20200114T120502Z
LAST-MODIFIED:20200114T120502Z
UID:13916-1776810209-1776810209@mlc-wels.edu
SUMMARY:Softball Away - Florida
DESCRIPTION:vs. SUNY Canton \n
URL:https://mlc-wels.edu/event/softball-away-florida-20/
END:VEVENT
END:VCALENDAR