BEGIN:VCALENDAR
VERSION:2.0
PRODID:-//Martin Luther College - ECPv5.1.1//NONSGML v1.0//EN
CALSCALE:GREGORIAN
METHOD:PUBLISH
X-WR-CALNAME:Martin Luther College
X-ORIGINAL-URL:https://mlc-wels.edu
X-WR-CALDESC:Events for Martin Luther College
BEGIN:VTIMEZONE
TZID:America/Chicago
BEGIN:DAYLIGHT
TZOFFSETFROM:-0600
TZOFFSETTO:-0500
TZNAME:CDT
DTSTART:20200308T080000
END:DAYLIGHT
BEGIN:STANDARD
TZOFFSETFROM:-0500
TZOFFSETTO:-0600
TZNAME:CST
DTSTART:20201101T070000
END:STANDARD
END:VTIMEZONE
BEGIN:VEVENT
DTSTART;TZID=America/Chicago:20200308T130000
DTEND;TZID=America/Chicago:20200308T130000
DTSTAMP:20260421T222259
CREATED:20200112T114944Z
LAST-MODIFIED:20200217T163412Z
UID:13902-1583672400-1583672400@mlc-wels.edu
SUMMARY:Softball Away - Florida
DESCRIPTION:vs. Rockford \n
URL:https://mlc-wels.edu/event/softball-away-florida-17/
LOCATION:CenturyLink Sports Complex\, 14100 6 Mile Cypress Pkwy\, Fort Myers\, FL 33912\, USA\, 8123 S Cypress Dr\, United States
END:VEVENT
END:VCALENDAR