BEGIN:VCALENDAR
VERSION:2.0
PRODID:-//Martin Luther College - ECPv5.1.1//NONSGML v1.0//EN
CALSCALE:GREGORIAN
METHOD:PUBLISH
X-WR-CALNAME:Martin Luther College
X-ORIGINAL-URL:https://mlc-wels.edu
X-WR-CALDESC:Events for Martin Luther College
BEGIN:VTIMEZONE
TZID:America/Chicago
BEGIN:DAYLIGHT
TZOFFSETFROM:-0600
TZOFFSETTO:-0500
TZNAME:CDT
DTSTART:20260308T080000
END:DAYLIGHT
BEGIN:STANDARD
TZOFFSETFROM:-0500
TZOFFSETTO:-0600
TZNAME:CST
DTSTART:20261101T070000
END:STANDARD
END:VTIMEZONE
BEGIN:VEVENT
DTSTART;TZID=America/Chicago:20260424T212510
DTEND;TZID=America/Chicago:20260424T212510
DTSTAMP:20260425T022510
CREATED:20200209T160422Z
LAST-MODIFIED:20200209T160422Z
UID:14550-1777065910-1777065910@mlc-wels.edu
SUMMARY:Softball at Northland (DH)
DESCRIPTION:
URL:https://mlc-wels.edu/event/softball-at-northland-dh-2/
END:VEVENT
END:VCALENDAR