BEGIN:VCALENDAR
VERSION:2.0
PRODID:-//Martin Luther College - ECPv5.1.1//NONSGML v1.0//EN
CALSCALE:GREGORIAN
METHOD:PUBLISH
X-WR-CALNAME:Martin Luther College
X-ORIGINAL-URL:https://mlc-wels.edu
X-WR-CALDESC:Events for Martin Luther College
BEGIN:VTIMEZONE
TZID:America/Chicago
BEGIN:DAYLIGHT
TZOFFSETFROM:-0600
TZOFFSETTO:-0500
TZNAME:CDT
DTSTART:20190310T080000
END:DAYLIGHT
BEGIN:STANDARD
TZOFFSETFROM:-0500
TZOFFSETTO:-0600
TZNAME:CST
DTSTART:20191103T070000
END:STANDARD
END:VTIMEZONE
BEGIN:VEVENT
DTSTART;TZID=America/Chicago:20190915T150000
DTEND;TZID=America/Chicago:20190915T163000
DTSTAMP:20260425T145123
CREATED:20190529T214536Z
LAST-MODIFIED:20190912T195451Z
UID:10790-1568559600-1568565000@mlc-wels.edu
SUMMARY:SAMS Season Opener: Tangos\, et cetera
DESCRIPTION:Tangos\, et cetera\n\nThe Summit Avenue Music Series (SAMS) is pleased to return to Chapel of the Christ at Martin Luther College for a fourth season of superlative and distinctive chamber music. The season opens Sunday\, September 15\, with the accurately dubbed Tangos\, et cetera. This concert features a wide variety of memorable works from Clara Schumann\, Astor Piazzolla\, Amy Beach\, Gaspar Cassadó\, Marlos Nobre\, Joaquín Turina\, and J.S. Bach\, performed by Soh-Hyun Park Altino (violin)\, Leonardo Altino (cello)\, and Bethel Balge (piano). Tickets are available in advance through SummitAvenueMusic.com\, or at the New Ulm Chamber of Commerce (1 N Minnesota St). Individual tickets are $15 (general) and $5 (students with ID). Tickets may also be purchased at the door on the day of the concert. Individual and family season passes are available at discounted rates and include the French Connection concert on January 19 and the Cello Treasures concert on April 5. Please visit our website for artist bios and further information about\nseason passes. \n  \nwww.summitavenuemusic.com \n
URL:https://mlc-wels.edu/event/sams-season-opener/
CATEGORIES:Music
END:VEVENT
END:VCALENDAR