BEGIN:VCALENDAR
VERSION:2.0
PRODID:-//Martin Luther College - ECPv5.1.1//NONSGML v1.0//EN
CALSCALE:GREGORIAN
METHOD:PUBLISH
X-WR-CALNAME:Martin Luther College
X-ORIGINAL-URL:https://mlc-wels.edu
X-WR-CALDESC:Events for Martin Luther College
BEGIN:VTIMEZONE
TZID:America/Chicago
BEGIN:DAYLIGHT
TZOFFSETFROM:-0600
TZOFFSETTO:-0500
TZNAME:CDT
DTSTART:20190310T080000
END:DAYLIGHT
BEGIN:STANDARD
TZOFFSETFROM:-0500
TZOFFSETTO:-0600
TZNAME:CST
DTSTART:20191103T070000
END:STANDARD
END:VTIMEZONE
BEGIN:VEVENT
DTSTART;TZID=America/Chicago:20190915T170000
DTEND;TZID=America/Chicago:20190915T171500
DTSTAMP:20260425T131648
CREATED:20190726T163724Z
LAST-MODIFIED:20190915T173056Z
UID:12034-1568566800-1568567700@mlc-wels.edu
SUMMARY:Pre-Sem Senior/Freshman Gathering
DESCRIPTION:
URL:https://mlc-wels.edu/event/pre-sem-senior-freshman-gathering/
LOCATION:Herman Heights #2
CATEGORIES:Student Life
END:VEVENT
END:VCALENDAR