BEGIN:VCALENDAR
VERSION:2.0
PRODID:-//Martin Luther College - ECPv5.1.1//NONSGML v1.0//EN
CALSCALE:GREGORIAN
METHOD:PUBLISH
X-WR-CALNAME:Martin Luther College
X-ORIGINAL-URL:https://mlc-wels.edu
X-WR-CALDESC:Events for Martin Luther College
BEGIN:VTIMEZONE
TZID:America/Chicago
BEGIN:DAYLIGHT
TZOFFSETFROM:-0600
TZOFFSETTO:-0500
TZNAME:CDT
DTSTART:20180311T080000
END:DAYLIGHT
BEGIN:STANDARD
TZOFFSETFROM:-0500
TZOFFSETTO:-0600
TZNAME:CST
DTSTART:20181104T070000
END:STANDARD
END:VTIMEZONE
BEGIN:VEVENT
DTSTART;TZID=America/Chicago:20180820T101500
DTEND;TZID=America/Chicago:20180820T101500
DTSTAMP:20260422T170538
CREATED:20180611T202836Z
LAST-MODIFIED:20180817T021551Z
UID:7586-1534760100-1534760100@mlc-wels.edu
SUMMARY:Opening Service
DESCRIPTION:Click here for Service Folder \nClick here for Livestream \n
URL:https://mlc-wels.edu/event/opening-service-2018/
LOCATION:Chapel of the Christ\, 1995 Luther Ct\, New Ulm\, MN 56073\, USA\, 1901 Luther Ct\, United States
CATEGORIES:Featured
END:VEVENT
END:VCALENDAR