BEGIN:VCALENDAR
VERSION:2.0
PRODID:-//Martin Luther College - ECPv5.1.1//NONSGML v1.0//EN
CALSCALE:GREGORIAN
METHOD:PUBLISH
X-WR-CALNAME:Martin Luther College
X-ORIGINAL-URL:https://mlc-wels.edu
X-WR-CALDESC:Events for Martin Luther College
BEGIN:VTIMEZONE
TZID:America/Chicago
BEGIN:DAYLIGHT
TZOFFSETFROM:-0600
TZOFFSETTO:-0500
TZNAME:CDT
DTSTART:20260308T080000
END:DAYLIGHT
BEGIN:STANDARD
TZOFFSETFROM:-0500
TZOFFSETTO:-0600
TZNAME:CST
DTSTART:20261101T070000
END:STANDARD
END:VTIMEZONE
BEGIN:VEVENT
DTSTART;TZID=America/Chicago:20260222T123000
DTEND;TZID=America/Chicago:20260222T161500
DTSTAMP:20260420T090052
CREATED:20260109T165551Z
LAST-MODIFIED:20260222T184046Z
UID:109119-1771763400-1771776900@mlc-wels.edu
SUMMARY:MLC Knights Baseball Camp
DESCRIPTION:Grades 2-4:  12:30-1:30 pm  \nGrades 5-8:  1:45-2:45 pm  \nGrades 9-12:  3:00-4:15 pm   \nhttps://mlc-wels.edu/athletic-camps/ \n
URL:https://mlc-wels.edu/event/mlc-knights-baseball-camp-4/
LOCATION:Betty Kohn Fieldhouse\, 1798 Boettger Rd\, New Ulm\, MN\, United States
END:VEVENT
END:VCALENDAR