BEGIN:VCALENDAR
VERSION:2.0
PRODID:-//Martin Luther College - ECPv5.1.1//NONSGML v1.0//EN
CALSCALE:GREGORIAN
METHOD:PUBLISH
X-WR-CALNAME:Martin Luther College
X-ORIGINAL-URL:https://mlc-wels.edu
X-WR-CALDESC:Events for Martin Luther College
BEGIN:VTIMEZONE
TZID:America/Chicago
BEGIN:DAYLIGHT
TZOFFSETFROM:-0600
TZOFFSETTO:-0500
TZNAME:CDT
DTSTART:20200308T080000
END:DAYLIGHT
BEGIN:STANDARD
TZOFFSETFROM:-0500
TZOFFSETTO:-0600
TZNAME:CST
DTSTART:20201101T070000
END:STANDARD
END:VTIMEZONE
BEGIN:VEVENT
DTSTART;VALUE=DATE:20200425
DTEND;VALUE=DATE:20200426
DTSTAMP:20260425T165853
CREATED:20200218T163425Z
LAST-MODIFIED:20200425T191919Z
UID:14611-1587772800-1587859199@mlc-wels.edu
SUMMARY:Men's & Women's Track at Gustavus - CANCELLED
DESCRIPTION:
URL:https://mlc-wels.edu/event/mens-womens-track-at-gustavus-tbd/
LOCATION:Gustavus Adolphus College\, 800 W College Ave\, St Peter\, MN 56082\, USA\, 801 W College Cir\, United States
END:VEVENT
END:VCALENDAR