BEGIN:VCALENDAR
VERSION:2.0
PRODID:-//Martin Luther College - ECPv5.1.1//NONSGML v1.0//EN
CALSCALE:GREGORIAN
METHOD:PUBLISH
X-WR-CALNAME:Martin Luther College
X-ORIGINAL-URL:https://mlc-wels.edu
X-WR-CALDESC:Events for Martin Luther College
BEGIN:VTIMEZONE
TZID:America/Chicago
BEGIN:DAYLIGHT
TZOFFSETFROM:-0600
TZOFFSETTO:-0500
TZNAME:CDT
DTSTART:20220313T080000
END:DAYLIGHT
BEGIN:STANDARD
TZOFFSETFROM:-0500
TZOFFSETTO:-0600
TZNAME:CST
DTSTART:20221106T070000
END:STANDARD
END:VTIMEZONE
BEGIN:VEVENT
DTSTART;TZID=America/Chicago:20220423T094500
DTEND;TZID=America/Chicago:20220423T094500
DTSTAMP:20260422T072309
CREATED:20220123T181932Z
LAST-MODIFIED:20220413T211916Z
UID:28082-1650707100-1650707100@mlc-wels.edu
SUMMARY:Men's & Women's Track at Carleton
DESCRIPTION:
URL:https://mlc-wels.edu/event/mens-womens-track-at-carleton-2/
LOCATION:Carleton College\, Sayles Hill Campus Center\, North College Street\, Northfield\, MN 55057\, USA\, 101 S College St\, United States
CATEGORIES:Athletics
END:VEVENT
END:VCALENDAR