BEGIN:VCALENDAR
VERSION:2.0
PRODID:-//Martin Luther College - ECPv5.1.1//NONSGML v1.0//EN
CALSCALE:GREGORIAN
METHOD:PUBLISH
X-WR-CALNAME:Martin Luther College
X-ORIGINAL-URL:https://mlc-wels.edu
X-WR-CALDESC:Events for Martin Luther College
BEGIN:VTIMEZONE
TZID:America/Chicago
BEGIN:DAYLIGHT
TZOFFSETFROM:-0600
TZOFFSETTO:-0500
TZNAME:CDT
DTSTART:20180311T080000
END:DAYLIGHT
BEGIN:STANDARD
TZOFFSETFROM:-0500
TZOFFSETTO:-0600
TZNAME:CST
DTSTART:20181104T070000
END:STANDARD
END:VTIMEZONE
BEGIN:VEVENT
DTSTART;TZID=America/Chicago:20180421T183000
DTEND;TZID=America/Chicago:20180421T183000
DTSTAMP:20260423T174400
CREATED:20180420T141311Z
LAST-MODIFIED:20180423T185037Z
UID:6891-1524335400-1524335400@mlc-wels.edu
SUMMARY:Men's & Women's Tennis Away vs Bethany
DESCRIPTION:Rescheduled from April 7th/Rescheduled from Home \n
URL:https://mlc-wels.edu/event/mens-womens-tennis-away-vs-bethany/
LOCATION:Life Time Fitness\, 18425 Dodd Blvd\, Lakeville\, MN 55044\, USA\, United States
END:VEVENT
END:VCALENDAR