BEGIN:VCALENDAR
VERSION:2.0
PRODID:-//Martin Luther College - ECPv5.1.1//NONSGML v1.0//EN
CALSCALE:GREGORIAN
METHOD:PUBLISH
X-WR-CALNAME:Martin Luther College
X-ORIGINAL-URL:https://mlc-wels.edu
X-WR-CALDESC:Events for Martin Luther College
BEGIN:VTIMEZONE
TZID:America/Chicago
BEGIN:DAYLIGHT
TZOFFSETFROM:-0600
TZOFFSETTO:-0500
TZNAME:CDT
DTSTART:20220313T080000
END:DAYLIGHT
BEGIN:STANDARD
TZOFFSETFROM:-0500
TZOFFSETTO:-0600
TZNAME:CST
DTSTART:20221106T070000
END:STANDARD
END:VTIMEZONE
BEGIN:VEVENT
DTSTART;TZID=America/Chicago:20220930T100000
DTEND;TZID=America/Chicago:20220930T100000
DTSTAMP:20260421T120440
CREATED:20220908T152532Z
LAST-MODIFIED:20220908T152532Z
UID:70520-1664532000-1664532000@mlc-wels.edu
SUMMARY:Men's & Women's Away
DESCRIPTION:MLC-BLC Invite \n
URL:https://mlc-wels.edu/event/mens-womens-away-2/
LOCATION:Crow River Golf Club\, 915 Colorado St NW\, Hutchinson\, MN 55350\, USA
CATEGORIES:Athletics
END:VEVENT
END:VCALENDAR