BEGIN:VCALENDAR
VERSION:2.0
PRODID:-//Martin Luther College - ECPv5.1.1//NONSGML v1.0//EN
CALSCALE:GREGORIAN
METHOD:PUBLISH
X-WR-CALNAME:Martin Luther College
X-ORIGINAL-URL:https://mlc-wels.edu
X-WR-CALDESC:Events for Martin Luther College
BEGIN:VTIMEZONE
TZID:America/Chicago
BEGIN:DAYLIGHT
TZOFFSETFROM:-0600
TZOFFSETTO:-0500
TZNAME:CDT
DTSTART:20180311T080000
END:DAYLIGHT
BEGIN:STANDARD
TZOFFSETFROM:-0500
TZOFFSETTO:-0600
TZNAME:CST
DTSTART:20181104T070000
END:STANDARD
END:VTIMEZONE
BEGIN:VEVENT
DTSTART;TZID=America/Chicago:20181014T093000
DTEND;TZID=America/Chicago:20181014T103000
DTSTAMP:20260423T010827
CREATED:20180921T201524Z
LAST-MODIFIED:20181009T193223Z
UID:8421-1539509400-1539513000@mlc-wels.edu
SUMMARY:Homecoming Worship Service
DESCRIPTION:The theme for this year’s homecoming service is “You Can Always Come Home.” \nPlease join the Martin Luther College alumni\, friends\, and family Sunday\, October 14\, at 9:30 am as we celebrate our last day of Homecoming Weekend in the best possible way—worship at Chapel of the Christ! \nClick here for Livestream \nClick here for Service Folder \n  \n
URL:https://mlc-wels.edu/event/homecoming-worship-service-2018/
LOCATION:Chapel of the Christ\, 1995 Luther Ct\, New Ulm\, MN 56073\, USA\, 1901 Luther Ct\, United States
CATEGORIES:Alumni
END:VEVENT
END:VCALENDAR