BEGIN:VCALENDAR
VERSION:2.0
PRODID:-//Martin Luther College - ECPv5.1.1//NONSGML v1.0//EN
CALSCALE:GREGORIAN
METHOD:PUBLISH
X-WR-CALNAME:Martin Luther College
X-ORIGINAL-URL:https://mlc-wels.edu
X-WR-CALDESC:Events for Martin Luther College
BEGIN:VTIMEZONE
TZID:America/Chicago
BEGIN:DAYLIGHT
TZOFFSETFROM:-0600
TZOFFSETTO:-0500
TZNAME:CDT
DTSTART:20200308T080000
END:DAYLIGHT
BEGIN:STANDARD
TZOFFSETFROM:-0500
TZOFFSETTO:-0600
TZNAME:CST
DTSTART:20201101T070000
END:STANDARD
END:VTIMEZONE
BEGIN:VEVENT
DTSTART;VALUE=DATE:20201002
DTEND;VALUE=DATE:20201005
DTSTAMP:20260422T001615
CREATED:20190726T165523Z
LAST-MODIFIED:20200819T163150Z
UID:12092-1601596800-1601855999@mlc-wels.edu
SUMMARY:Homecoming Weekend (Virtual)
DESCRIPTION:UPDATE: Regretfully\, due to the pandemic and the regulations that the safe operation of the college requires\, most of our planned October 2-4\, 2020\, Homecoming events have been canceled or modified. We will do our best to keep this page accurate as plans are finalized. We eagerly look forward to welcoming our alumni and friends back to campus when conditions allow. \nEvents still on the slate include . . .\n* Virtual 25th Anniversary Worship Service. WLS President Earle Treptow will preach\, and WELS President Mark Schroeder will address the assembly.\n* Virtual Talent Show. Time\, date\, and details coming soon!\n* WORLDWIDE Sprinter Fun Run. Join Knights across the globe in a school-spirit-filled 1-mile walk or run at the location of your choice. Register now! \n \n
URL:https://mlc-wels.edu/event/homecoming-weekend-2/
CATEGORIES:Featured
END:VEVENT
END:VCALENDAR