BEGIN:VCALENDAR
VERSION:2.0
PRODID:-//Martin Luther College - ECPv5.1.1//NONSGML v1.0//EN
CALSCALE:GREGORIAN
METHOD:PUBLISH
X-WR-CALNAME:Martin Luther College
X-ORIGINAL-URL:https://mlc-wels.edu
X-WR-CALDESC:Events for Martin Luther College
BEGIN:VTIMEZONE
TZID:America/Chicago
BEGIN:DAYLIGHT
TZOFFSETFROM:-0600
TZOFFSETTO:-0500
TZNAME:CDT
DTSTART:20180311T080000
END:DAYLIGHT
BEGIN:STANDARD
TZOFFSETFROM:-0500
TZOFFSETTO:-0600
TZNAME:CST
DTSTART:20181104T070000
END:STANDARD
END:VTIMEZONE
BEGIN:VEVENT
DTSTART;TZID=America/Chicago:20180503T110000
DTEND;TZID=America/Chicago:20180503T235000
DTSTAMP:20260423T064330
CREATED:20180430T135427Z
LAST-MODIFIED:20180430T135427Z
UID:7108-1525345200-1525391400@mlc-wels.edu
SUMMARY:Gospel Work in South Korea & Philippines
DESCRIPTION:
URL:https://mlc-wels.edu/event/gospel-work-in-south-korea-philippines/
LOCATION:New Ulm Turner Hall\, 102 S. State Street\, New Ulm\, MN\, 56073\, United States
END:VEVENT
END:VCALENDAR