BEGIN:VCALENDAR
VERSION:2.0
PRODID:-//Martin Luther College - ECPv5.1.1//NONSGML v1.0//EN
CALSCALE:GREGORIAN
METHOD:PUBLISH
X-WR-CALNAME:Martin Luther College
X-ORIGINAL-URL:https://mlc-wels.edu
X-WR-CALDESC:Events for Martin Luther College
BEGIN:VTIMEZONE
TZID:America/Chicago
BEGIN:DAYLIGHT
TZOFFSETFROM:-0600
TZOFFSETTO:-0500
TZNAME:CDT
DTSTART:20200308T080000
END:DAYLIGHT
BEGIN:STANDARD
TZOFFSETFROM:-0500
TZOFFSETTO:-0600
TZNAME:CST
DTSTART:20201101T070000
END:STANDARD
END:VTIMEZONE
BEGIN:VEVENT
DTSTART;VALUE=DATE:20200205
DTEND;VALUE=DATE:20200207
DTSTAMP:20260422T211801
CREATED:20190501T171310Z
LAST-MODIFIED:20190913T211444Z
UID:10035-1580860800-1581033599@mlc-wels.edu
SUMMARY:Focus On Ministry
DESCRIPTION:MLC offers a Focus on Ministry visit Wednesday-Thursday\, February 5-6. Focus on Ministry visits are for high school juniors and seniors who would like to learn more about MLC and the public ministry. These visits offer a firsthand experience of classes and campus life. Participants will meet and discuss the public ministry with professors\, pastors\, teachers\, and college students. If you would like to attend or would like more information\, please contact the MLC Admissions Office at 507.354.8221 ext. 280. \n
URL:https://mlc-wels.edu/event/focus-on-ministry/
END:VEVENT
END:VCALENDAR