BEGIN:VCALENDAR
VERSION:2.0
PRODID:-//Martin Luther College - ECPv5.1.1//NONSGML v1.0//EN
CALSCALE:GREGORIAN
METHOD:PUBLISH
X-WR-CALNAME:Martin Luther College
X-ORIGINAL-URL:https://mlc-wels.edu
X-WR-CALDESC:Events for Martin Luther College
BEGIN:VTIMEZONE
TZID:America/Chicago
BEGIN:DAYLIGHT
TZOFFSETFROM:-0600
TZOFFSETTO:-0500
TZNAME:CDT
DTSTART:20180311T080000
END:DAYLIGHT
BEGIN:STANDARD
TZOFFSETFROM:-0500
TZOFFSETTO:-0600
TZNAME:CST
DTSTART:20181104T070000
END:STANDARD
END:VTIMEZONE
BEGIN:VEVENT
DTSTART;VALUE=DATE:20181101
DTEND;VALUE=DATE:20181104
DTSTAMP:20260423T044612
CREATED:20180425T162147Z
LAST-MODIFIED:20180425T162147Z
UID:7084-1541030400-1541289599@mlc-wels.edu
SUMMARY:Focus on Ministry weekend
DESCRIPTION:MLC offers a Focus on Ministry weekend Thursday – Saturday\, November 1-3. Focus on Ministry weekends are for high school juniors and seniors who would like to learn more about MLC and the public ministry. All sessions run Thursday evening through Saturday morning. These visits offer a firsthand campus experience of classes and campus life. Participants will meet and discuss the public ministry with professors\, pastors\, teachers\, and college students. If you would like to attend or would like more information\, please contact the MLC admissions office at 507-354-8221 ext. 280. \n  \n
URL:https://mlc-wels.edu/event/focus-on-ministry-weekend-8/
END:VEVENT
END:VCALENDAR