BEGIN:VCALENDAR
VERSION:2.0
PRODID:-//Martin Luther College - ECPv5.1.1//NONSGML v1.0//EN
CALSCALE:GREGORIAN
METHOD:PUBLISH
X-WR-CALNAME:Martin Luther College
X-ORIGINAL-URL:https://mlc-wels.edu
X-WR-CALDESC:Events for Martin Luther College
BEGIN:VTIMEZONE
TZID:America/Chicago
BEGIN:DAYLIGHT
TZOFFSETFROM:-0600
TZOFFSETTO:-0500
TZNAME:CDT
DTSTART:20190310T080000
END:DAYLIGHT
BEGIN:STANDARD
TZOFFSETFROM:-0500
TZOFFSETTO:-0600
TZNAME:CST
DTSTART:20191103T070000
END:STANDARD
END:VTIMEZONE
BEGIN:VEVENT
DTSTART;VALUE=DATE:20191029
DTEND;VALUE=DATE:20191031
DTSTAMP:20260422T015021
CREATED:20190501T171504Z
LAST-MODIFIED:20190912T203241Z
UID:10042-1572307200-1572479999@mlc-wels.edu
SUMMARY:Focus On Ministry
DESCRIPTION:MLC offers a Focus on Ministry visit Tuesday-Wednesday\, October 29-30. Focus on Ministry weekends are for high school juniors and seniors who would like to learn more about MLC and the public ministry. Most sessions run Thursday evening through Saturday morning. These visits offer a firsthand campus experience of classes and campus life. Participants will meet and discuss the public ministry with professors\, pastors\, teachers\, and college students. If you would like to attend or would like more information\, please contact the MLC admissions office at 507.354.8221 ext. 280. \n
URL:https://mlc-wels.edu/event/focus-on-ministry-2/
END:VEVENT
END:VCALENDAR