BEGIN:VCALENDAR
VERSION:2.0
PRODID:-//Martin Luther College - ECPv5.1.1//NONSGML v1.0//EN
CALSCALE:GREGORIAN
METHOD:PUBLISH
X-WR-CALNAME:Martin Luther College
X-ORIGINAL-URL:https://mlc-wels.edu
X-WR-CALDESC:Events for Martin Luther College
BEGIN:VTIMEZONE
TZID:America/Chicago
BEGIN:DAYLIGHT
TZOFFSETFROM:-0600
TZOFFSETTO:-0500
TZNAME:CDT
DTSTART:20240310T080000
END:DAYLIGHT
BEGIN:STANDARD
TZOFFSETFROM:-0500
TZOFFSETTO:-0600
TZNAME:CST
DTSTART:20241103T070000
END:STANDARD
END:VTIMEZONE
BEGIN:VEVENT
DTSTART;VALUE=DATE:20240924
DTEND;VALUE=DATE:20240926
DTSTAMP:20260424T133321
CREATED:20240206T181931Z
LAST-MODIFIED:20240918T201045Z
UID:74612-1727136000-1727308799@mlc-wels.edu
SUMMARY:DMLHS Class of 1959
DESCRIPTION:DMLHS Class of 1959 reunion in New Ulm\, MN \nSeptember 24:\n\nMay wish to attend choir practice or a class before registration\n6:00: Registration (Chapel of the Christ Narthex)\n7:15: Chapel service at Chapel of the Christ\nAfter Chapel: Reception (Cafeteria Conference Center) The cafeteria offers snacks until midnight.\n\nSeptember 25 \n\n10:30 am: Morning chapel\n11:00: Class picture\n11:15: Lunch (Cafeteria Conference Center)\n11:30: Scholarship winner presentation\n1:00: Tour Cultural Engagement Center (Luther Student Center)\n1:45: Tour Chapel basement\n2:00 – 5:00: Free time\n3:00: Listen to the College Choir rehearsal (Chapel of the Christ)\n5:00: Banquet (Cafeteria Conference Center)\n6:00: Discuss future reunions\, sharing time\n\nContact the MLC Alumni Office for more information. \nalumni@mlc-wels.edu \n
URL:https://mlc-wels.edu/event/dmlhs-class-of-1959/
CATEGORIES:Alumni
END:VEVENT
END:VCALENDAR