BEGIN:VCALENDAR
VERSION:2.0
PRODID:-//Martin Luther College - ECPv5.1.1//NONSGML v1.0//EN
CALSCALE:GREGORIAN
METHOD:PUBLISH
X-WR-CALNAME:Martin Luther College
X-ORIGINAL-URL:https://mlc-wels.edu
X-WR-CALDESC:Events for Martin Luther College
BEGIN:VTIMEZONE
TZID:America/Chicago
BEGIN:DAYLIGHT
TZOFFSETFROM:-0600
TZOFFSETTO:-0500
TZNAME:CDT
DTSTART:20210314T080000
END:DAYLIGHT
BEGIN:STANDARD
TZOFFSETFROM:-0500
TZOFFSETTO:-0600
TZNAME:CST
DTSTART:20211107T070000
END:STANDARD
END:VTIMEZONE
BEGIN:VEVENT
DTSTART;TZID=America/Chicago:20210514T193000
DTEND;TZID=America/Chicago:20210514T210000
DTSTAMP:20260421T153657
CREATED:20200207T164531Z
LAST-MODIFIED:20210510T161526Z
UID:14317-1621020600-1621026000@mlc-wels.edu
SUMMARY:Commencement Concert
DESCRIPTION:Livestream available here. \nDownload concert program here. \n
URL:https://mlc-wels.edu/event/commencement-concert-5/
CATEGORIES:Arts,Music
END:VEVENT
END:VCALENDAR