BEGIN:VCALENDAR
VERSION:2.0
PRODID:-//Martin Luther College - ECPv5.1.1//NONSGML v1.0//EN
CALSCALE:GREGORIAN
METHOD:PUBLISH
X-WR-CALNAME:Martin Luther College
X-ORIGINAL-URL:https://mlc-wels.edu
X-WR-CALDESC:Events for Martin Luther College
BEGIN:VTIMEZONE
TZID:America/Chicago
BEGIN:DAYLIGHT
TZOFFSETFROM:-0600
TZOFFSETTO:-0500
TZNAME:CDT
DTSTART:20250309T080000
END:DAYLIGHT
BEGIN:STANDARD
TZOFFSETFROM:-0500
TZOFFSETTO:-0600
TZNAME:CST
DTSTART:20251102T070000
END:STANDARD
END:VTIMEZONE
BEGIN:VEVENT
DTSTART;TZID=America/Chicago:20251214T160000
DTEND;TZID=America/Chicago:20251214T173000
DTSTAMP:20260421T132314
CREATED:20250416T165142Z
LAST-MODIFIED:20251119T154943Z
UID:100970-1765728000-1765733400@mlc-wels.edu
SUMMARY:Christmas Concert
DESCRIPTION:Martin Luther College’s highly anticipated Christmas concert will be presented Saturday\, December 13\, at 7:30 pm and Sunday\, December 14\, at 4:00 pm in the MLC Chapel of the Christ. The combined choirs of Martin Luther College\, the Wind Symphony\, and the Hosanna Ringers invite you to join them for this musical celebration of the birth of Christ. \nUnder the theme For Us and For Our Salvation—drawn from the Nicene Creed and especially fitting as the Christian church commemorates the creed’s 1700th anniversary this year—the program reflects on the profound mystery that the Savior\, God from all eternity\, took on flesh and became truly human for the redemption of the world. Featured works include J. S. Bach’s Cantata 61 “Savior of the Nations\, Come\,” David Danner’s radiant choral anthem Arise\, Your Light Has Come\, and beloved carols and Christmas compositions that highlight the grace and joy that came to us in Christ: “The Son was sent into the world that the world might be saved through him.” \nAll are welcome as we rejoice in the hope of Advent and celebrate the Christmas message with this cherished campus tradition! \n \n
URL:https://mlc-wels.edu/event/christmas-concert-19/
LOCATION:Chapel of the Christ\, 1995 Luther Ct\, New Ulm\, MN 56073\, USA\, 1901 Luther Ct\, United States
CATEGORIES:Arts,Featured,Music
END:VEVENT
END:VCALENDAR