BEGIN:VCALENDAR
VERSION:2.0
PRODID:-//Martin Luther College - ECPv5.1.1//NONSGML v1.0//EN
CALSCALE:GREGORIAN
METHOD:PUBLISH
X-WR-CALNAME:Martin Luther College
X-ORIGINAL-URL:https://mlc-wels.edu
X-WR-CALDESC:Events for Martin Luther College
BEGIN:VTIMEZONE
TZID:America/Chicago
BEGIN:DAYLIGHT
TZOFFSETFROM:-0600
TZOFFSETTO:-0500
TZNAME:CDT
DTSTART:20190310T080000
END:DAYLIGHT
BEGIN:STANDARD
TZOFFSETFROM:-0500
TZOFFSETTO:-0600
TZNAME:CST
DTSTART:20191103T070000
END:STANDARD
END:VTIMEZONE
BEGIN:VEVENT
DTSTART;TZID=America/Chicago:20190922T150000
DTEND;TZID=America/Chicago:20190922T160000
DTSTAMP:20260421T231904
CREATED:20190917T143421Z
LAST-MODIFIED:20190917T144541Z
UID:12786-1569164400-1569168000@mlc-wels.edu
SUMMARY:Children's Author/Illustrator Visit
DESCRIPTION:All are invited to a presentation by children’s book creators Mary Schmal (author) and Leanne Ross (illustrator) on Sunday\, September 22\, at 3:00 pm in the MLC Auditorium. \nMary and Leanne will talk about their experiences creating the Children of the Light (https://www.childrenofthelightbooks.com/) series of children’s books. After the presentation\, they will be available for autographs\, and copies of their books will be offered for sale. \nCome learn about the book creation process from these DMLC graduates. We hope to see you there. \n
URL:https://mlc-wels.edu/event/childrens-author-illustrator-visit/
END:VEVENT
END:VCALENDAR