BEGIN:VCALENDAR
VERSION:2.0
PRODID:-//Martin Luther College - ECPv5.1.1//NONSGML v1.0//EN
CALSCALE:GREGORIAN
METHOD:PUBLISH
X-WR-CALNAME:Martin Luther College
X-ORIGINAL-URL:https://mlc-wels.edu
X-WR-CALDESC:Events for Martin Luther College
BEGIN:VTIMEZONE
TZID:America/Chicago
BEGIN:DAYLIGHT
TZOFFSETFROM:-0600
TZOFFSETTO:-0500
TZNAME:CDT
DTSTART:20220313T080000
END:DAYLIGHT
BEGIN:STANDARD
TZOFFSETFROM:-0500
TZOFFSETTO:-0600
TZNAME:CST
DTSTART:20221106T070000
END:STANDARD
END:VTIMEZONE
BEGIN:VEVENT
DTSTART;TZID=America/Chicago:20220205T120000
DTEND;TZID=America/Chicago:20220205T131500
DTSTAMP:20260421T184626
CREATED:20220125T175001Z
LAST-MODIFIED:20220205T181919Z
UID:28289-1644062400-1644066900@mlc-wels.edu
SUMMARY:Alumni Basketball Game
DESCRIPTION:Family and fans are welcomed to join us in the LSC Gymnasium for the annual Winter Carnival Alumni Basketball game. Our stellar Wisconsin Lutheran Seminary squad will face off against our talented group of local alumni. Either way\, we win! Tipoff is at 12 noon and no admission is charged for this event. Questions? Contact Steve Balza in the alumni office (507-233-9135 or alumni@mlc-wels.edu). \n
URL:https://mlc-wels.edu/event/alumni-basketball-game/
LOCATION:Luther Student Center\, New Ulm\, MN 56073\, USA
CATEGORIES:Featured
END:VEVENT
END:VCALENDAR