BEGIN:VCALENDAR
VERSION:2.0
PRODID:-//Martin Luther College - ECPv5.1.1//NONSGML v1.0//EN
CALSCALE:GREGORIAN
METHOD:PUBLISH
X-WR-CALNAME:Martin Luther College
X-ORIGINAL-URL:https://mlc-wels.edu
X-WR-CALDESC:Events for Martin Luther College
BEGIN:VTIMEZONE
TZID:America/Chicago
BEGIN:DAYLIGHT
TZOFFSETFROM:-0600
TZOFFSETTO:-0500
TZNAME:CDT
DTSTART:20180311T080000
END:DAYLIGHT
BEGIN:STANDARD
TZOFFSETFROM:-0500
TZOFFSETTO:-0600
TZNAME:CST
DTSTART:20181104T070000
END:STANDARD
END:VTIMEZONE
BEGIN:VEVENT
DTSTART;TZID=America/Chicago:20180118T194500
DTEND;TZID=America/Chicago:20180118T204500
DTSTAMP:20260423T013907
CREATED:20180115T185348Z
LAST-MODIFIED:20180116T145143Z
UID:5882-1516304700-1516308300@mlc-wels.edu
SUMMARY:Aulic Presentation - The Wartburg Project
DESCRIPTION:“The Wartburg Project: A Presentation on a New Bible Translation” \nOn Thursday\, January 18th\, the New Testament editor of the EHV translation\, Pastor Brian Keller\, will share his experience working on the project. Come to this Aulic presentation and learn all about that new Bible you picked up from the bookstore. The event will be at 7:45pm in WCC 175 and as always\, is free and open to the public. \n \nAn Aulic is a free\, informative presentation on a relevant subject based on the research of a highly qualified individual. \n
URL:https://mlc-wels.edu/event/aulic-presentation-the-wartburg-project/
LOCATION:Wittenberg Colligiate Center – Room 175
CATEGORIES:Aulic
END:VEVENT
END:VCALENDAR