BEGIN:VCALENDAR
VERSION:2.0
PRODID:-//Martin Luther College - ECPv5.1.1//NONSGML v1.0//EN
CALSCALE:GREGORIAN
METHOD:PUBLISH
X-WR-CALNAME:Martin Luther College
X-ORIGINAL-URL:https://mlc-wels.edu
X-WR-CALDESC:Events for Martin Luther College
BEGIN:VTIMEZONE
TZID:America/Chicago
BEGIN:DAYLIGHT
TZOFFSETFROM:-0600
TZOFFSETTO:-0500
TZNAME:CDT
DTSTART:20260308T080000
END:DAYLIGHT
BEGIN:STANDARD
TZOFFSETFROM:-0500
TZOFFSETTO:-0600
TZNAME:CST
DTSTART:20261101T070000
END:STANDARD
END:VTIMEZONE
BEGIN:VEVENT
DTSTART;VALUE=DATE:20260804
DTEND;VALUE=DATE:20260806
DTSTAMP:20260421T134056
CREATED:20250702T193146Z
LAST-MODIFIED:20250702T193146Z
UID:101207-1785801600-1785974399@mlc-wels.edu
SUMMARY:DMLC Class of 1976 Reunion
DESCRIPTION: \nCelebrating 50 years! \nContacts: \nJohn Festerling 507.872.6353 | jfesterling@centurytel.net \nRichard Janke 920.382.0232 | richardjanke54@gmail.com \nMary Schmal 414.446.2013 | mary.schmal@gmail.com \nKristine Metzger 414.699.6439 | kris.metzger6676@gmail.com \n
URL:https://mlc-wels.edu/event/dmlc-class-of-1976-reunion/
LOCATION:1995 Luther Ct\, New Ulm\, MN 56073\, USA\, 1995 Luther Ct\, United States
CATEGORIES:Alumni
ORGANIZER;CN="Michelle%20Markgraf":MAILTO:markgrml@mlc-wels.edu
END:VEVENT
END:VCALENDAR