BEGIN:VCALENDAR
VERSION:2.0
PRODID:-//Martin Luther College - ECPv5.1.1//NONSGML v1.0//EN
CALSCALE:GREGORIAN
METHOD:PUBLISH
X-WR-CALNAME:Martin Luther College
X-ORIGINAL-URL:https://mlc-wels.edu
X-WR-CALDESC:Events for Martin Luther College
BEGIN:VTIMEZONE
TZID:America/Chicago
BEGIN:DAYLIGHT
TZOFFSETFROM:-0600
TZOFFSETTO:-0500
TZNAME:CDT
DTSTART:20260308T080000
END:DAYLIGHT
BEGIN:STANDARD
TZOFFSETFROM:-0500
TZOFFSETTO:-0600
TZNAME:CST
DTSTART:20261101T070000
END:STANDARD
END:VTIMEZONE
BEGIN:VEVENT
DTSTART;TZID=America/Chicago:20260515T163000
DTEND;TZID=America/Chicago:20260515T190000
DTSTAMP:20260421T085141
CREATED:20260302T221415Z
LAST-MODIFIED:20260410T200814Z
UID:109373-1778862600-1778871600@mlc-wels.edu
SUMMARY:MLC Alumni & Friends Commencement Dinner
DESCRIPTION:\n\nReconnect with classmates and friends\, enjoying a relaxed evening together before the Commencement Concert. \nReconnect with classmates and friends and enjoy time together before the Commencement Concert. \n\nDate: May 15\, 2026 | 4:30 – 7:00Location: Turner Hall (102 S State Street)Cost: $20 per person (The Alumni Office is covering part of the bill to keep this event affordable for everyone!) \nThe Evening\n4:30 pm – Check-in and Social HourTake time to catch up with old friends. We’ll save tables for those coming after the Honors Recital. \n5:15 pm – Opening Prayer and DinnerEnjoy roast beef\, honey-glazed carrots\, herbed baby red potatoes\, and salad. (Let us know any dietary needs when you register.) \n6:00 pm – A brief update from President Rich Gurgel \n6:15 pm – First Look: MLC’s 25-Year HistoryMeet the authors of our upcoming history book. They’ll share stories from the first quarter-century and answer your questions. \n6:45 pm – FellowshipMore time to chat before the music begins. \n7:30 pm – Commencement ConcertGet ready to enjoy MLC’s choirs and ensembles! \nAlumni Bonus: If you’re on campus during the day\, please stop by my office! I’d love to chat and hook you up with some MLC swag. \nWe can’t wait to see you there. If you have questions\, reach out! alumni@mlc-wels.edu or 507.233.9135 \n\nLast day to register is Friday\, May 10. \nREGISTER HERE \n\n\n\n
URL:https://mlc-wels.edu/event/mlc-alumni-friends-commencement-dinner/
LOCATION:New Ulm Turner Hall\, 102 S. State Street\, New Ulm\, MN\, 56073\, United States
CATEGORIES:Alumni
ORGANIZER;CN="Michelle%20Markgraf":MAILTO:markgrml@mlc-wels.edu
END:VEVENT
END:VCALENDAR