BEGIN:VCALENDAR
VERSION:2.0
PRODID:-//Martin Luther College - ECPv5.1.1//NONSGML v1.0//EN
CALSCALE:GREGORIAN
METHOD:PUBLISH
X-WR-CALNAME:Martin Luther College
X-ORIGINAL-URL:https://mlc-wels.edu
X-WR-CALDESC:Events for Martin Luther College
BEGIN:VTIMEZONE
TZID:America/Chicago
BEGIN:DAYLIGHT
TZOFFSETFROM:-0600
TZOFFSETTO:-0500
TZNAME:CDT
DTSTART:20250309T080000
END:DAYLIGHT
BEGIN:STANDARD
TZOFFSETFROM:-0500
TZOFFSETTO:-0600
TZNAME:CST
DTSTART:20251102T070000
END:STANDARD
END:VTIMEZONE
BEGIN:VEVENT
DTSTART;VALUE=DATE:20251017
DTEND;VALUE=DATE:20251020
DTSTAMP:20260421T170608
CREATED:20241213T185011Z
LAST-MODIFIED:20241226T172245Z
UID:95398-1760659200-1760918399@mlc-wels.edu
SUMMARY:DMLC Class of 1975 Reunion
DESCRIPTION: \nClass Contacts: \nConnie (Apitz) Scharf: conniescharf@gmail.com \nPat (Weitz) Stern: flagsterns@gmail.com \n
URL:https://mlc-wels.edu/event/dmlc-class-of-1975-reunion/
LOCATION:Martin Luther College 1995 Luther Ct\, New Ulm\, MN 56073\, USA\, 1901 Luther Ct\, United States
CATEGORIES:Alumni
ORGANIZER;CN="Michelle%20Markgraf":MAILTO:markgrml@mlc-wels.edu
END:VEVENT
END:VCALENDAR