BEGIN:VCALENDAR
VERSION:2.0
PRODID:-//Martin Luther College - ECPv5.1.1//NONSGML v1.0//EN
CALSCALE:GREGORIAN
METHOD:PUBLISH
X-WR-CALNAME:Martin Luther College
X-ORIGINAL-URL:https://mlc-wels.edu
X-WR-CALDESC:Events for Martin Luther College
BEGIN:VTIMEZONE
TZID:America/Chicago
BEGIN:DAYLIGHT
TZOFFSETFROM:-0600
TZOFFSETTO:-0500
TZNAME:CDT
DTSTART:20250309T080000
END:DAYLIGHT
BEGIN:STANDARD
TZOFFSETFROM:-0500
TZOFFSETTO:-0600
TZNAME:CST
DTSTART:20251102T070000
END:STANDARD
END:VTIMEZONE
BEGIN:VEVENT
DTSTART;VALUE=DATE:20250620
DTEND;VALUE=DATE:20250622
DTSTAMP:20260422T000306
CREATED:20241022T185342Z
LAST-MODIFIED:20241226T172615Z
UID:81622-1750377600-1750550399@mlc-wels.edu
SUMMARY:DMLC Class of 1965 Reunion
DESCRIPTION: \nReunion committee: Avis (Kesting) Bleick\, Joyce (Nitschke) Baer\, and Cassie (Bauer) Bandelin \n
URL:https://mlc-wels.edu/event/dmlc-class-of-1965-reunion/
LOCATION:Martin Luther College 1995 Luther Ct\, New Ulm\, MN 56073\, USA\, 1901 Luther Ct\, United States
CATEGORIES:Alumni,Featured
ORGANIZER;CN="Michelle%20Markgraf":MAILTO:markgrml@mlc-wels.edu
END:VEVENT
END:VCALENDAR