BEGIN:VCALENDAR
VERSION:2.0
PRODID:-//Martin Luther College - ECPv5.1.1//NONSGML v1.0//EN
CALSCALE:GREGORIAN
METHOD:PUBLISH
X-WR-CALNAME:Martin Luther College
X-ORIGINAL-URL:https://mlc-wels.edu
X-WR-CALDESC:Events for Martin Luther College
BEGIN:VTIMEZONE
TZID:America/Chicago
BEGIN:DAYLIGHT
TZOFFSETFROM:-0600
TZOFFSETTO:-0500
TZNAME:CDT
DTSTART:20240310T080000
END:DAYLIGHT
BEGIN:STANDARD
TZOFFSETFROM:-0500
TZOFFSETTO:-0600
TZNAME:CST
DTSTART:20241103T070000
END:STANDARD
END:VTIMEZONE
BEGIN:VEVENT
DTSTART;TZID=America/Chicago:20241005T090000
DTEND;TZID=America/Chicago:20241005T100000
DTSTAMP:20260424T120941
CREATED:20240923T143653Z
LAST-MODIFIED:20240926T144555Z
UID:78710-1728118800-1728122400@mlc-wels.edu
SUMMARY:1-Mile Sprinter Fun Run/Walk
DESCRIPTION:\nWe are back and starting to get ready for MLC Homecoming and the 14th running of the Sprinter Fun Run. It certainly has become a wonderful tradition at MLC. We had a huge turnout last year\, both in person and virtually\, so we are hoping for another fun year.\n\n\n\nWhether you can be on campus or live in London\, we encourage you to participate and join the fun!\n\n
URL:https://mlc-wels.edu/event/1-mile-sprinter-fun-run/
LOCATION:MLC Campus
CATEGORIES:Alumni,Community Event
ORGANIZER;CN="Michelle%20Markgraf":MAILTO:markgrml@mlc-wels.edu
END:VEVENT
BEGIN:VEVENT
DTSTART;TZID=America/Chicago:20241005T100000
DTEND;TZID=America/Chicago:20241005T120000
DTSTAMP:20260424T120941
CREATED:20240923T144459Z
LAST-MODIFIED:20240923T144459Z
UID:78716-1728122400-1728129600@mlc-wels.edu
SUMMARY:Homecoming Fun Zone & Alumni Registration
DESCRIPTION:Join us from 10 to noon on the Ultimate Field (the grassy area next to the gym) for bouncy houses\, games\, face painting\, and more! \nAlumni\, be sure to register in the gym lobby and get your free alumni t-shirt. \n
URL:https://mlc-wels.edu/event/homecoming-fun-zone-alumni-registration/
LOCATION:MLC Campus
CATEGORIES:Alumni,Community Event
ORGANIZER;CN="Michelle%20Markgraf":MAILTO:markgrml@mlc-wels.edu
END:VEVENT
BEGIN:VEVENT
DTSTART;TZID=America/Chicago:20241005T160000
DTEND;TZID=America/Chicago:20241005T193000
DTSTAMP:20260424T120941
CREATED:20240923T144212Z
LAST-MODIFIED:20240923T144614Z
UID:78713-1728144000-1728156600@mlc-wels.edu
SUMMARY:Alumni Mixer
DESCRIPTION:Join the MLC Alumni Association and your fellow alumni at Kegel Klub. Enjoy complimentary appetizers while rekindling old friendships and making new ones. This is a come-and-go event. \n
URL:https://mlc-wels.edu/event/alumni-mixer-2/
LOCATION:Kegel Klub\, 416 19th St N\, New Ulm\, MN 56073
CATEGORIES:Alumni
ORGANIZER;CN="Michelle%20Markgraf":MAILTO:markgrml@mlc-wels.edu
END:VEVENT
END:VCALENDAR