BEGIN:VCALENDAR
VERSION:2.0
PRODID:-//Martin Luther College - ECPv5.1.1//NONSGML v1.0//EN
CALSCALE:GREGORIAN
METHOD:PUBLISH
X-WR-CALNAME:Martin Luther College
X-ORIGINAL-URL:https://mlc-wels.edu
X-WR-CALDESC:Events for Martin Luther College
BEGIN:VTIMEZONE
TZID:America/Chicago
BEGIN:DAYLIGHT
TZOFFSETFROM:-0600
TZOFFSETTO:-0500
TZNAME:CDT
DTSTART:20240310T080000
END:DAYLIGHT
BEGIN:STANDARD
TZOFFSETFROM:-0500
TZOFFSETTO:-0600
TZNAME:CST
DTSTART:20241103T070000
END:STANDARD
END:VTIMEZONE
BEGIN:VEVENT
DTSTART;VALUE=DATE:20240927
DTEND;VALUE=DATE:20240930
DTSTAMP:20260424T134727
CREATED:20240206T182145Z
LAST-MODIFIED:20240918T201900Z
UID:74615-1727395200-1727654399@mlc-wels.edu
SUMMARY:DMLC Class of 1974 Reunion
DESCRIPTION:DMLC Class of 1974 reunion in New Ulm\, MN \nSeptember 27\n\n6:30: Registration (Chapel of the Christ Narthex)\n7:15: Chapel service\n7:30: Reception (Cafeteria Conference Center)\n\nSeptember 28\n\n9:45 am: Registration (Chapel of the Christ Narthex)\n10:00: Class Picture (Chapel)\n10:10: Campus tour (Starting at the Chapel)\n12:00: Lunch (Cafeteria Conference Center)\n1:00: Home volleyball game (Gym)\n6:00: Banquet (Kaiseroff\, 221 N. Minnesota St.)\n\nSeptember 29\nAttend church on your own\n\nFor more information\, contact the Alumni Office\nalumni@mlc-wels.edu\n
URL:https://mlc-wels.edu/event/dmlc-class-of-1974-reunion/
CATEGORIES:Alumni
END:VEVENT
END:VCALENDAR