BEGIN:VCALENDAR
VERSION:2.0
PRODID:-//Martin Luther College - ECPv5.1.1//NONSGML v1.0//EN
CALSCALE:GREGORIAN
METHOD:PUBLISH
X-WR-CALNAME:Martin Luther College
X-ORIGINAL-URL:https://mlc-wels.edu
X-WR-CALDESC:Events for Martin Luther College
BEGIN:VTIMEZONE
TZID:America/Chicago
BEGIN:DAYLIGHT
TZOFFSETFROM:-0600
TZOFFSETTO:-0500
TZNAME:CDT
DTSTART:20240310T080000
END:DAYLIGHT
BEGIN:STANDARD
TZOFFSETFROM:-0500
TZOFFSETTO:-0600
TZNAME:CST
DTSTART:20241103T070000
END:STANDARD
END:VTIMEZONE
BEGIN:VEVENT
DTSTART;VALUE=DATE:20240920
DTEND;VALUE=DATE:20240922
DTSTAMP:20260424T134734
CREATED:20240206T181602Z
LAST-MODIFIED:20240918T200342Z
UID:74609-1726790400-1726963199@mlc-wels.edu
SUMMARY:MLA Class of 1974
DESCRIPTION:MLA Class of 1974 reunion in New Ulm\, MN \n\nSeptember 20: \n\n4:30-5:30:Registration (Chapel of the Christ Narthex)\n5:30: Supper in the cafeteria (sit in the Cafeteria Conference Center)\n7:15: Chapel service (Chapel of the Christ)\n8:00: Gathering at the Best Western – Schell’s Conference Room\n\nSeptember 21  \n\n8:45: Registration (Chapel of the Christ Narthex)\n9:00: Class picture (Chapel of the Christ)\n9:10: Campus tour\, including the chapel and Betty Kohn Field House\n10:00: Tour ends at the Betty Kohn Field House; use the golf simulator\n11:00: More Than the Score (Chapel of the Christ)\n1:00: Home football game\n4:30: Men’s home soccer game\n6:00: Supper at the Kaiserhoff\n\nSeptember 22  \n\nFree day for other plans / return home\n\n\nContact the MLC Alumni Office for details. \nalumni@mlc-wels.edu \n
URL:https://mlc-wels.edu/event/mla-class-of-1974/
CATEGORIES:Alumni
END:VEVENT
BEGIN:VEVENT
DTSTART;VALUE=DATE:20240920
DTEND;VALUE=DATE:20240923
DTSTAMP:20260424T134734
CREATED:20240208T211615Z
LAST-MODIFIED:20240918T201523Z
UID:74620-1726790400-1727049599@mlc-wels.edu
SUMMARY:DMLHS Class of 1964 Reunion - New Ulm
DESCRIPTION:September 20:  \n6:30 pm: Registration (Chapel of the Christ Narthex) \n7:15: Chapel \n7:30: Reception with snacks (Cafeteria Conference Center) \nSeptember 21:  \n8:45: Registration (Chapel of the Christ) \n9:00: Class picture (Chapel) \n9:10: City or Campus tour (Meet in the Chapel Narthex) \n11:00: More Than the Score (Chapel of the Christ) \n12:00: Lunch (Cafeteria Conference Center) \n1:00: Home football game \n4:30: Men’s home soccer game \n6:00: Banquet (Cafeteria Conference Center) \nSeptember 22: \nChurch on your own \n
URL:https://mlc-wels.edu/event/dmlhs-class-of-1964-reunion-new-ulm/
CATEGORIES:Alumni
END:VEVENT
END:VCALENDAR