BEGIN:VCALENDAR
VERSION:2.0
PRODID:-//Martin Luther College - ECPv5.1.1//NONSGML v1.0//EN
CALSCALE:GREGORIAN
METHOD:PUBLISH
X-WR-CALNAME:Martin Luther College
X-ORIGINAL-URL:https://mlc-wels.edu
X-WR-CALDESC:Events for Martin Luther College
BEGIN:VTIMEZONE
TZID:America/Chicago
BEGIN:DAYLIGHT
TZOFFSETFROM:-0600
TZOFFSETTO:-0500
TZNAME:CDT
DTSTART:20220313T080000
END:DAYLIGHT
BEGIN:STANDARD
TZOFFSETFROM:-0500
TZOFFSETTO:-0600
TZNAME:CST
DTSTART:20221106T070000
END:STANDARD
END:VTIMEZONE
BEGIN:VEVENT
DTSTART;VALUE=DATE:20220505
DTEND;VALUE=DATE:20220508
DTSTAMP:20260423T025330
CREATED:20210721T152859Z
LAST-MODIFIED:20220413T211926Z
UID:19805-1651708800-1651967999@mlc-wels.edu
SUMMARY:Softball UMAC (TBD)
DESCRIPTION:
URL:https://mlc-wels.edu/event/softball-umac-tbd-2/
CATEGORIES:Athletics,Featured
END:VEVENT
BEGIN:VEVENT
DTSTART;VALUE=DATE:20220506
DTEND;VALUE=DATE:20220508
DTSTAMP:20260423T025330
CREATED:20210721T152900Z
LAST-MODIFIED:20220413T211926Z
UID:19808-1651795200-1651967999@mlc-wels.edu
SUMMARY:Men's & Women's Track - UMAC
DESCRIPTION:
URL:https://mlc-wels.edu/event/mens-womens-track-umac-4/
LOCATION:University of Minnesota\, Morris\, 600 E 4th St\, Morris\, MN 56267\, USA\, 2 E 4th St\, United States
CATEGORIES:Athletics,Featured
END:VEVENT
BEGIN:VEVENT
DTSTART;VALUE=DATE:20220507
DTEND;VALUE=DATE:20220508
DTSTAMP:20260423T025330
CREATED:20220125T175750Z
LAST-MODIFIED:20220413T211926Z
UID:28307-1651881600-1651967999@mlc-wels.edu
SUMMARY:UMAC - Tennis (TBD)
DESCRIPTION:
URL:https://mlc-wels.edu/event/umac-tennis-tbd/
LOCATION:Baseline Tennis Center\, 1815 4th St SE\, Minneapolis\, MN 55455\, USA\, 1603 4th St SE\, United States
CATEGORIES:Athletics
END:VEVENT
BEGIN:VEVENT
DTSTART;TZID=America/Chicago:20220507T080000
DTEND;TZID=America/Chicago:20220507T090000
DTSTAMP:20260423T025330
CREATED:20220111T173824Z
LAST-MODIFIED:20220111T173824Z
UID:26538-1651910400-1651914000@mlc-wels.edu
SUMMARY:Pre-Sem/WLS Softball Tourney
DESCRIPTION:
URL:https://mlc-wels.edu/event/pre-sem-wls-softball-tourney-2/
LOCATION:Harman Park\, 101 N Garden St\, New Ulm\, MN 56073\, USA
CATEGORIES:Featured
END:VEVENT
BEGIN:VEVENT
DTSTART;TZID=America/Chicago:20220507T140000
DTEND;TZID=America/Chicago:20220507T140000
DTSTAMP:20260423T025330
CREATED:20210721T152900Z
LAST-MODIFIED:20220413T211925Z
UID:19809-1651932000-1651932000@mlc-wels.edu
SUMMARY:Baseball at Northwestern (DH)
DESCRIPTION:
URL:https://mlc-wels.edu/event/baseball-at-northwestern-dh-5/
LOCATION:University of Northwestern – St. Paul\, 3003 Snelling Ave N\, Roseville\, MN 55113\, USA\, 1800 Snelling Ave N\, United States
CATEGORIES:Athletics,Featured
END:VEVENT
BEGIN:VEVENT
DTSTART;TZID=America/Chicago:20220507T143000
DTEND;TZID=America/Chicago:20220507T210000
DTSTAMP:20260423T025330
CREATED:20220224T201933Z
LAST-MODIFIED:20220413T223443Z
UID:31166-1651933800-1651957200@mlc-wels.edu
SUMMARY:Swine Sizzler
DESCRIPTION:
URL:https://mlc-wels.edu/event/swine-sizzler-3/
CATEGORIES:Featured
END:VEVENT
BEGIN:VEVENT
DTSTART;TZID=America/Chicago:20220507T150000
DTEND;TZID=America/Chicago:20220507T160000
DTSTAMP:20260423T025330
CREATED:20220221T201929Z
LAST-MODIFIED:20220413T223444Z
UID:31065-1651935600-1651939200@mlc-wels.edu
SUMMARY:Diana Escalona Senior Recital
DESCRIPTION:
URL:https://mlc-wels.edu/event/diana-escalona-senior-recital/
LOCATION:Chapel of the Christ\, 1995 Luther Ct\, New Ulm\, MN 56073\, USA\, 1901 Luther Ct\, United States
CATEGORIES:Arts,Featured
END:VEVENT
BEGIN:VEVENT
DTSTART;TZID=America/Chicago:20220507T150000
DTEND;TZID=America/Chicago:20220507T160000
DTSTAMP:20260423T025330
CREATED:20220221T201929Z
LAST-MODIFIED:20220221T201929Z
UID:31066-1651935600-1651939200@mlc-wels.edu
SUMMARY:Diana Escalona Senior Recital
DESCRIPTION:
URL:https://mlc-wels.edu/event/diana-escalona-senior-recital-2/
LOCATION:Chapel of the Christ\, 1995 Luther Ct\, New Ulm\, MN 56073\, USA\, 1901 Luther Ct\, United States
CATEGORIES:Featured
END:VEVENT
END:VCALENDAR