BEGIN:VCALENDAR
VERSION:2.0
PRODID:-//Martin Luther College - ECPv5.1.1//NONSGML v1.0//EN
CALSCALE:GREGORIAN
METHOD:PUBLISH
X-WR-CALNAME:Martin Luther College
X-ORIGINAL-URL:https://mlc-wels.edu
X-WR-CALDESC:Events for Martin Luther College
BEGIN:VTIMEZONE
TZID:America/Chicago
BEGIN:DAYLIGHT
TZOFFSETFROM:-0600
TZOFFSETTO:-0500
TZNAME:CDT
DTSTART:20220313T080000
END:DAYLIGHT
BEGIN:STANDARD
TZOFFSETFROM:-0500
TZOFFSETTO:-0600
TZNAME:CST
DTSTART:20221106T070000
END:STANDARD
END:VTIMEZONE
BEGIN:VEVENT
DTSTART;VALUE=DATE:20220415
DTEND;VALUE=DATE:20220416
DTSTAMP:20260423T010602
CREATED:20210902T144354Z
LAST-MODIFIED:20210902T144354Z
UID:21351-1649980800-1650067199@mlc-wels.edu
SUMMARY:No Classes
DESCRIPTION:
URL:https://mlc-wels.edu/event/no-classes-22/
CATEGORIES:Academic
END:VEVENT
BEGIN:VEVENT
DTSTART;TZID=America/Chicago:20220415T150000
DTEND;TZID=America/Chicago:20220415T150000
DTSTAMP:20260423T010602
CREATED:20210721T152852Z
LAST-MODIFIED:20220413T211912Z
UID:19788-1650034800-1650034800@mlc-wels.edu
SUMMARY:Baseball vs. North Central
DESCRIPTION:Single game \n
URL:https://mlc-wels.edu/event/baseball-vs-north-central/
CATEGORIES:Athletics,Featured
END:VEVENT
END:VCALENDAR