BEGIN:VCALENDAR
VERSION:2.0
PRODID:-//Martin Luther College - ECPv5.1.1//NONSGML v1.0//EN
CALSCALE:GREGORIAN
METHOD:PUBLISH
X-WR-CALNAME:Martin Luther College
X-ORIGINAL-URL:https://mlc-wels.edu
X-WR-CALDESC:Events for Martin Luther College
BEGIN:VTIMEZONE
TZID:America/Chicago
BEGIN:DAYLIGHT
TZOFFSETFROM:-0600
TZOFFSETTO:-0500
TZNAME:CDT
DTSTART:20210314T080000
END:DAYLIGHT
BEGIN:STANDARD
TZOFFSETFROM:-0500
TZOFFSETTO:-0600
TZNAME:CST
DTSTART:20211107T070000
END:STANDARD
END:VTIMEZONE
BEGIN:VEVENT
DTSTART;VALUE=DATE:20211103
DTEND;VALUE=DATE:20211104
DTSTAMP:20260422T161550
CREATED:20210721T152716Z
LAST-MODIFIED:20210820T183334Z
UID:19621-1635897600-1635983999@mlc-wels.edu
SUMMARY:Men's Soccer - UMAC (TBD)
DESCRIPTION:Semi-Finals \n
URL:https://mlc-wels.edu/event/mens-soccer-umac-tbd-11/
CATEGORIES:Athletics,Featured
END:VEVENT
BEGIN:VEVENT
DTSTART;VALUE=DATE:20211103
DTEND;VALUE=DATE:20211104
DTSTAMP:20260422T161550
CREATED:20210721T152716Z
LAST-MODIFIED:20210820T183334Z
UID:19622-1635897600-1635983999@mlc-wels.edu
SUMMARY:Women's Soccer - UMAC (TBD)
DESCRIPTION:Semi- Finals \n
URL:https://mlc-wels.edu/event/womens-soccer-umac-tbd-8/
CATEGORIES:Athletics,Featured
END:VEVENT
BEGIN:VEVENT
DTSTART;VALUE=DATE:20211103
DTEND;VALUE=DATE:20211104
DTSTAMP:20260422T161550
CREATED:20210721T152717Z
LAST-MODIFIED:20210820T183334Z
UID:19623-1635897600-1635983999@mlc-wels.edu
SUMMARY:Volleyball - UMAC (TBD)
DESCRIPTION:Semi-Finals \n
URL:https://mlc-wels.edu/event/volleyball-umac-tbd-7/
CATEGORIES:Athletics,Featured
END:VEVENT
BEGIN:VEVENT
DTSTART;VALUE=DATE:20211103
DTEND;VALUE=DATE:20211104
DTSTAMP:20260422T161550
CREATED:20210810T181910Z
LAST-MODIFIED:20211021T160408Z
UID:20067-1635897600-1635983999@mlc-wels.edu
SUMMARY:Evangelism Day
DESCRIPTION:
URL:https://mlc-wels.edu/event/evangelism-day-3/
END:VEVENT
END:VCALENDAR