BEGIN:VCALENDAR
VERSION:2.0
PRODID:-//Martin Luther College - ECPv5.1.1//NONSGML v1.0//EN
CALSCALE:GREGORIAN
METHOD:PUBLISH
X-WR-CALNAME:Martin Luther College
X-ORIGINAL-URL:https://mlc-wels.edu
X-WR-CALDESC:Events for Martin Luther College
BEGIN:VTIMEZONE
TZID:America/Chicago
BEGIN:DAYLIGHT
TZOFFSETFROM:-0600
TZOFFSETTO:-0500
TZNAME:CDT
DTSTART:20210314T080000
END:DAYLIGHT
BEGIN:STANDARD
TZOFFSETFROM:-0500
TZOFFSETTO:-0600
TZNAME:CST
DTSTART:20211107T070000
END:STANDARD
END:VTIMEZONE
BEGIN:VEVENT
DTSTART;TZID=America/Chicago:20211012T170000
DTEND;TZID=America/Chicago:20211012T170000
DTSTAMP:20260422T144427
CREATED:20210721T152656Z
LAST-MODIFIED:20211026T161920Z
UID:19589-1634058000-1634058000@mlc-wels.edu
SUMMARY:Women's Soccer at Bethany
DESCRIPTION:
URL:https://mlc-wels.edu/event/womens-soccer-at-bethany/
LOCATION:Bethany Lutheran College\, 700 Luther Dr\, Mankato\, MN 56001\, USA\, 700 Luther Dr\, United States
CATEGORIES:Athletics,Featured
END:VEVENT
BEGIN:VEVENT
DTSTART;TZID=America/Chicago:20211012T190000
DTEND;TZID=America/Chicago:20211012T190000
DTSTAMP:20260422T144427
CREATED:20210721T152657Z
LAST-MODIFIED:20211026T161921Z
UID:19590-1634065200-1634065200@mlc-wels.edu
SUMMARY:Volleyball Home vs. Bethany
DESCRIPTION:
URL:https://mlc-wels.edu/event/volleyball-home-vs-bethany-4/
LOCATION:1995 Luther Ct\, New Ulm\, MN 56073\, USA\, 1995 Luther Ct\, United States
CATEGORIES:Athletics,Featured
END:VEVENT
BEGIN:VEVENT
DTSTART;TZID=America/Chicago:20211012T193000
DTEND;TZID=America/Chicago:20211012T193000
DTSTAMP:20260422T144427
CREATED:20210721T152657Z
LAST-MODIFIED:20211026T161921Z
UID:19591-1634067000-1634067000@mlc-wels.edu
SUMMARY:Men's Soccer at Bethany
DESCRIPTION:
URL:https://mlc-wels.edu/event/mens-soccer-at-bethany/
LOCATION:Bethany Lutheran College\, 700 Luther Dr\, Mankato\, MN 56001\, USA\, 700 Luther Dr\, United States
CATEGORIES:Athletics,Featured
END:VEVENT
END:VCALENDAR