BEGIN:VCALENDAR
VERSION:2.0
PRODID:-//Martin Luther College - ECPv5.1.1//NONSGML v1.0//EN
CALSCALE:GREGORIAN
METHOD:PUBLISH
X-WR-CALNAME:Martin Luther College
X-ORIGINAL-URL:https://mlc-wels.edu
X-WR-CALDESC:Events for Martin Luther College
BEGIN:VTIMEZONE
TZID:America/Chicago
BEGIN:DAYLIGHT
TZOFFSETFROM:-0600
TZOFFSETTO:-0500
TZNAME:CDT
DTSTART:20210314T080000
END:DAYLIGHT
BEGIN:STANDARD
TZOFFSETFROM:-0500
TZOFFSETTO:-0600
TZNAME:CST
DTSTART:20211107T070000
END:STANDARD
END:VTIMEZONE
BEGIN:VEVENT
DTSTART;TZID=America/Chicago:20210928T120000
DTEND;TZID=America/Chicago:20210928T120000
DTSTAMP:20260422T132342
CREATED:20210721T152632Z
LAST-MODIFIED:20211026T161915Z
UID:19566-1632830400-1632830400@mlc-wels.edu
SUMMARY:Men's & Women's Golf Away
DESCRIPTION:University of Northwestern Invite \n
URL:https://mlc-wels.edu/event/mens-womens-golf-away-39/
LOCATION:Majestic Oaks Golf Club\, 701 Bunker Lake Blvd NE\, Ham Lake\, MN 55304\, USA
CATEGORIES:Athletics
END:VEVENT
BEGIN:VEVENT
DTSTART;TZID=America/Chicago:20210928T140000
DTEND;TZID=America/Chicago:20210928T140000
DTSTAMP:20260422T132342
CREATED:20210721T152633Z
LAST-MODIFIED:20211026T161915Z
UID:19567-1632837600-1632837600@mlc-wels.edu
SUMMARY:Men's Soccer Home vs. Northwestern
DESCRIPTION:
URL:https://mlc-wels.edu/event/mens-soccer-home-vs-northwestern/
CATEGORIES:Athletics
END:VEVENT
BEGIN:VEVENT
DTSTART;TZID=America/Chicago:20210928T163000
DTEND;TZID=America/Chicago:20210928T163000
DTSTAMP:20260422T132342
CREATED:20210721T152634Z
LAST-MODIFIED:20211026T161916Z
UID:19568-1632846600-1632846600@mlc-wels.edu
SUMMARY:Women's Soccer Home vs. Northwestern
DESCRIPTION:
URL:https://mlc-wels.edu/event/womens-soccer-home-vs-northwestern/
CATEGORIES:Athletics
END:VEVENT
END:VCALENDAR