BEGIN:VCALENDAR
VERSION:2.0
PRODID:-//Martin Luther College - ECPv5.1.1//NONSGML v1.0//EN
CALSCALE:GREGORIAN
METHOD:PUBLISH
X-WR-CALNAME:Martin Luther College
X-ORIGINAL-URL:https://mlc-wels.edu
X-WR-CALDESC:Events for Martin Luther College
BEGIN:VTIMEZONE
TZID:America/Chicago
BEGIN:DAYLIGHT
TZOFFSETFROM:-0600
TZOFFSETTO:-0500
TZNAME:CDT
DTSTART:20210314T080000
END:DAYLIGHT
BEGIN:STANDARD
TZOFFSETFROM:-0500
TZOFFSETTO:-0600
TZNAME:CST
DTSTART:20211107T070000
END:STANDARD
END:VTIMEZONE
BEGIN:VEVENT
DTSTART;VALUE=DATE:20210912
DTEND;VALUE=DATE:20210915
DTSTAMP:20260422T132638
CREATED:20210724T173412Z
LAST-MODIFIED:20210914T161905Z
UID:19914-1631404800-1631663999@mlc-wels.edu
SUMMARY:DMLC Class of '70 Reunion
DESCRIPTION:Committee:\nDave Wendler – Chair\nMarlene Wendler – Secretary\nGeorge/Nan Traucht – Banquet Program\nLarry/Fran Collyard – Treasurer/Registration\nJoyce DeForge – Banquet Coordinator\nMary Prange – Database/Research \n
URL:https://mlc-wels.edu/event/dmlc-class-of-70-reunion/
LOCATION:Martin Luther College\, 1995 Luther Ct\, New Ulm\, MN 56073\, USA\, 1901 Luther Ct\, United States
END:VEVENT
BEGIN:VEVENT
DTSTART;VALUE=DATE:20210914
DTEND;VALUE=DATE:20210915
DTSTAMP:20260422T132638
CREATED:20210721T152619Z
LAST-MODIFIED:20210721T152619Z
UID:19544-1631577600-1631663999@mlc-wels.edu
SUMMARY:Men's & Women's Golf
DESCRIPTION:Wittenberg/Katy Cup \n
URL:https://mlc-wels.edu/event/mens-womens-golf/
LOCATION:New Ulm Country Club\, 2-36 Golf Dr\, New Ulm\, MN 56073\, USA\, 2 Golf Dr\, United States
CATEGORIES:Athletics
END:VEVENT
BEGIN:VEVENT
DTSTART;TZID=America/Chicago:20210914T190000
DTEND;TZID=America/Chicago:20210914T190000
DTSTAMP:20260422T132638
CREATED:20210721T152620Z
LAST-MODIFIED:20211026T161911Z
UID:19545-1631646000-1631646000@mlc-wels.edu
SUMMARY:Volleyball at St. Catherine
DESCRIPTION:
URL:https://mlc-wels.edu/event/volleyball-at-st-catherine-4/
LOCATION:St. Catherine University\, 2004 Randolph Ave\, St Paul\, MN 55105\, USA\, 401 Randolph Ave\, United States
CATEGORIES:Athletics
END:VEVENT
END:VCALENDAR