BEGIN:VCALENDAR
VERSION:2.0
PRODID:-//Martin Luther College - ECPv5.1.1//NONSGML v1.0//EN
CALSCALE:GREGORIAN
METHOD:PUBLISH
X-WR-CALNAME:Martin Luther College
X-ORIGINAL-URL:https://mlc-wels.edu
X-WR-CALDESC:Events for Martin Luther College
BEGIN:VTIMEZONE
TZID:America/Chicago
BEGIN:DAYLIGHT
TZOFFSETFROM:-0600
TZOFFSETTO:-0500
TZNAME:CDT
DTSTART:20210314T080000
END:DAYLIGHT
BEGIN:STANDARD
TZOFFSETFROM:-0500
TZOFFSETTO:-0600
TZNAME:CST
DTSTART:20211107T070000
END:STANDARD
END:VTIMEZONE
BEGIN:VEVENT
DTSTART;TZID=America/Chicago:20210911T110000
DTEND;TZID=America/Chicago:20210911T110000
DTSTAMP:20260422T131601
CREATED:20210803T174917Z
LAST-MODIFIED:20211026T161911Z
UID:20019-1631358000-1631358000@mlc-wels.edu
SUMMARY:Volleyball at Hamline
DESCRIPTION:vs. Buena Vista University \n
URL:https://mlc-wels.edu/event/volleyball-at-hamline-tournament/
LOCATION:Hamline University\, 1536 Hewitt Ave\, St Paul\, MN 55104\, USA\, 620 University Ave\, United States
CATEGORIES:Athletics
END:VEVENT
BEGIN:VEVENT
DTSTART;TZID=America/Chicago:20210911T130000
DTEND;TZID=America/Chicago:20210911T130000
DTSTAMP:20260422T131601
CREATED:20210721T152617Z
LAST-MODIFIED:20211026T161911Z
UID:19541-1631365200-1631365200@mlc-wels.edu
SUMMARY:Football Home vs. WLC
DESCRIPTION:
URL:https://mlc-wels.edu/event/football-home-vs-wlc/
LOCATION:1995 Luther Ct\, New Ulm\, MN 56073\, USA\, 1995 Luther Ct\, United States
CATEGORIES:Athletics
END:VEVENT
BEGIN:VEVENT
DTSTART;TZID=America/Chicago:20210911T130000
DTEND;TZID=America/Chicago:20210911T130000
DTSTAMP:20260422T131601
CREATED:20210803T174918Z
LAST-MODIFIED:20211026T161911Z
UID:20020-1631365200-1631365200@mlc-wels.edu
SUMMARY:Volleyball at St. Catherine
DESCRIPTION:vs. Whitman \n
URL:https://mlc-wels.edu/event/volleyball-at-hamline-tournament-2/
LOCATION:Hamline University\, 1536 Hewitt Ave\, St Paul\, MN 55104\, USA\, 620 University Ave\, United States
CATEGORIES:Athletics
END:VEVENT
END:VCALENDAR